BEGIN:VCALENDAR
VERSION:2.0
PRODID:-//Secteur Côte-de-Gaspé (01 L) - ECPv5.14.0.4//NONSGML v1.0//EN
CALSCALE:GREGORIAN
METHOD:PUBLISH
X-WR-CALNAME:Secteur Côte-de-Gaspé (01 L)
X-ORIGINAL-URL:https://cotedegaspe.areq.lacsq.org
X-WR-CALDESC:évènements pour Secteur Côte-de-Gaspé (01 L)
BEGIN:VTIMEZONE
TZID:America/New_York
BEGIN:DAYLIGHT
TZOFFSETFROM:-0500
TZOFFSETTO:-0400
TZNAME:EDT
DTSTART:20260308T070000
END:DAYLIGHT
BEGIN:STANDARD
TZOFFSETFROM:-0400
TZOFFSETTO:-0500
TZNAME:EST
DTSTART:20261101T060000
END:STANDARD
END:VTIMEZONE
BEGIN:VEVENT
DTSTART;TZID=America/New_York:20260429T113000
DTEND;TZID=America/New_York:20260429T113000
DTSTAMP:20260424T214401
CREATED:20240925T234116Z
LAST-MODIFIED:20250910T195435Z
UID:2132-1777462200-1777462200@cotedegaspe.areq.lacsq.org
SUMMARY:Dîner des bénévoles
DESCRIPTION:
URL:https://cotedegaspe.areq.lacsq.org/event/diner-des-benevoles-4/
LOCATION:La révolte (Riv-au-Renard)
END:VEVENT
BEGIN:VEVENT
DTSTART;TZID=America/New_York:20260501T080000
DTEND;TZID=America/New_York:20260501T080000
DTSTAMP:20260424T214401
CREATED:20240925T234832Z
LAST-MODIFIED:20250910T195551Z
UID:2142-1777622400-1777622400@cotedegaspe.areq.lacsq.org
SUMMARY:AGR 01
DESCRIPTION:
URL:https://cotedegaspe.areq.lacsq.org/event/agr-01/
LOCATION:Carleton
END:VEVENT
BEGIN:VEVENT
DTSTART;TZID=America/New_York:20260516T080000
DTEND;TZID=America/New_York:20260516T170000
DTSTAMP:20260424T214401
CREATED:20250910T195829Z
LAST-MODIFIED:20250910T195829Z
UID:2193-1778918400-1778950800@cotedegaspe.areq.lacsq.org
SUMMARY:Grand nettoyage (Ville de Gaspé)
DESCRIPTION:Ça sera en  mai 2026….date à déterminer.
URL:https://cotedegaspe.areq.lacsq.org/event/grand-nettoyage-ville-de-gaspe/
LOCATION:Ville de Gaspé
END:VEVENT
BEGIN:VEVENT
DTSTART;VALUE=DATE:20260609
DTEND;VALUE=DATE:20260612
DTSTAMP:20260424T214401
CREATED:20251022T145819Z
LAST-MODIFIED:20251022T193115Z
UID:2237-1780963200-1781222399@cotedegaspe.areq.lacsq.org
SUMMARY:Congrès
DESCRIPTION:Le 50e Congrès de l’AREQ aura lieu au Centre du congrès de Lévis situé au 5750\, rue J.B.Michaud.
URL:https://cotedegaspe.areq.lacsq.org/event/congres-2/
END:VEVENT
END:VCALENDAR